{"text_format":"1","workbook":"xlsx","n_sheets":1,"sheets":["Spin"],"not_rendered":{"charts":0,"images":0,"macros":1,"external_links":0,"defined_names":0,"comments":0,"pivot_tables":0},"unopened":[],"bounds":{"document_bytes":16777216,"sheet_cells":100000,"rows_first":2000,"rows_last":500,"rows_between":2000,"halvings":0,"cell_chars":16384,"cell_head_chars":4096},"cells_cut":0,"cells_raw":0,"read":"whole","date_system":"1900"}

{"sheet":"Spin","index":0,"n_rows":252,"n_cols":17,"rows_kept":252,"cut":false,"hidden":false,"merged":[]}
[]
[]
[{"$f":"\"Story\"","v":"Story"},{"$f":"\"Recalculate\"","v":"Recalculate"}]
[{"$f":"IF(Q107<> -1, Q107, \"\")&IF(AND(0=99, B107>0), \" ... NO SPACE TO CONTINUE!\", \"\")","v":"Earth"},"Recalculate"]
[{"$f":"IF(Q108<> -1, Q108, \"\")&IF(AND(1=99, B108>0), \" ... NO SPACE TO CONTINUE!\", \"\")","v":"is used as the cue ball in a game of galactic bar-billiards"}]
[{"$f":"IF(Q109<> -1, Q109, \"\")&IF(AND(2=99, B109>0), \" ... NO SPACE TO CONTINUE!\", \"\")","v":"and is visited by good"}]
[{"$f":"IF(Q110<> -1, Q110, \"\")&IF(AND(3=99, B110>0), \" ... NO SPACE TO CONTINUE!\", \"\")","v":"mutant brewers yeast cells"}]
[{"$f":"IF(Q111<> -1, Q111, \"\")&IF(AND(4=99, B111>0), \" ... NO SPACE TO CONTINUE!\", \"\")","v":"who"}]
[{"$f":"IF(Q112<> -1, Q112, \"\")&IF(AND(5=99, B112>0), \" ... NO SPACE TO CONTINUE!\", \"\")","v":"steal its reserves of"}]
[{"$f":"IF(Q113<> -1, Q113, \"\")&IF(AND(6=99, B113>0), \" ... NO SPACE TO CONTINUE!\", \"\")","v":"iron"}]
[{"$f":"IF(Q114<> -1, Q114, \"\")&IF(AND(7=99, B114>0), \" ... NO SPACE TO CONTINUE!\", \"\")","v":"and"}]
[{"$f":"IF(Q115<> -1, Q115, \"\")&IF(AND(8=99, B115>0), \" ... NO SPACE TO CONTINUE!\", \"\")","v":"are stopped by a logician"}]
[{"$f":"IF(Q116<> -1, Q116, \"\")&IF(AND(9=99, B116>0), \" ... NO SPACE TO CONTINUE!\", \"\")","v":"who says 'I am lying'"}]
[{"$f":"IF(Q117<> -1, Q117, \"\")&IF(AND(10=99, B117>0), \" ... NO SPACE TO CONTINUE!\", \"\")","v":"and so he must be telling a falsehood"}]
[{"$f":"IF(Q118<> -1, Q118, \"\")&IF(AND(11=99, B118>0), \" ... NO SPACE TO CONTINUE!\", \"\")","v":"so he must be telling the truth"}]
[{"$f":"IF(Q119<> -1, Q119, \"\")&IF(AND(12=99, B119>0), \" ... NO SPACE TO CONTINUE!\", \"\")","v":"and so he must be telling a falsehood"}]
[{"$f":"IF(Q120<> -1, Q120, \"\")&IF(AND(13=99, B120>0), \" ... NO SPACE TO CONTINUE!\", \"\")","v":"so he must be telling the truth"}]
[{"$f":"IF(Q121<> -1, Q121, \"\")&IF(AND(14=99, B121>0), \" ... NO SPACE TO CONTINUE!\", \"\")","v":"and so he must be telling a falsehood"}]
[{"$f":"IF(Q122<> -1, Q122, \"\")&IF(AND(15=99, B122>0), \" ... NO SPACE TO CONTINUE!\", \"\")","v":"so he must be telling the truth"}]
[{"$f":"IF(Q123<> -1, Q123, \"\")&IF(AND(16=99, B123>0), \" ... NO SPACE TO CONTINUE!\", \"\")","v":"and so he must be telling a falsehood"}]
[{"$f":"IF(Q124<> -1, Q124, \"\")&IF(AND(17=99, B124>0), \" ... NO SPACE TO CONTINUE!\", \"\")","v":"so he must be telling the truth"}]
[{"$f":"IF(Q125<> -1, Q125, \"\")&IF(AND(18=99, B125>0), \" ... NO SPACE TO CONTINUE!\", \"\")","v":"and so he must be telling a falsehood"}]
[{"$f":"IF(Q126<> -1, Q126, \"\")&IF(AND(19=99, B126>0), \" ... NO SPACE TO CONTINUE!\", \"\")","v":"so he must be telling the truth"}]
[{"$f":"IF(Q127<> -1, Q127, \"\")&IF(AND(20=99, B127>0), \" ... NO SPACE TO CONTINUE!\", \"\")","v":"and so he must be telling a falsehood"}]
[{"$f":"IF(Q128<> -1, Q128, \"\")&IF(AND(21=99, B128>0), \" ... NO SPACE TO CONTINUE!\", \"\")","v":"so he must be telling the truth"}]
[{"$f":"IF(Q129<> -1, Q129, \"\")&IF(AND(22=99, B129>0), \" ... NO SPACE TO CONTINUE!\", \"\")","v":"and so he must be telling a falsehood"}]
[{"$f":"IF(Q130<> -1, Q130, \"\")&IF(AND(23=99, B130>0), \" ... NO SPACE TO CONTINUE!\", \"\")","v":"so he must be telling the truth"}]
[{"$f":"IF(Q131<> -1, Q131, \"\")&IF(AND(24=99, B131>0), \" ... NO SPACE TO CONTINUE!\", \"\")","v":"and so he must be telling a falsehood"}]
[{"$f":"IF(Q132<> -1, Q132, \"\")&IF(AND(25=99, B132>0), \" ... NO SPACE TO CONTINUE!\", \"\")","v":"so he must be telling the truth"}]
[{"$f":"IF(Q133<> -1, Q133, \"\")&IF(AND(26=99, B133>0), \" ... NO SPACE TO CONTINUE!\", \"\")","v":"and so he must be telling a falsehood"}]
[{"$f":"IF(Q134<> -1, Q134, \"\")&IF(AND(27=99, B134>0), \" ... NO SPACE TO CONTINUE!\", \"\")","v":"so he must be telling the truth"}]
[{"$f":"IF(Q135<> -1, Q135, \"\")&IF(AND(28=99, B135>0), \" ... NO SPACE TO CONTINUE!\", \"\")","v":"and so he must be telling a falsehood"}]
[{"$f":"IF(Q136<> -1, Q136, \"\")&IF(AND(29=99, B136>0), \" ... NO SPACE TO CONTINUE!\", \"\")","v":"so he must be telling the truth"}]
[{"$f":"IF(Q137<> -1, Q137, \"\")&IF(AND(30=99, B137>0), \" ... NO SPACE TO CONTINUE!\", \"\")","v":"and so he must be telling a falsehood"}]
[{"$f":"IF(Q138<> -1, Q138, \"\")&IF(AND(31=99, B138>0), \" ... NO SPACE TO CONTINUE!\", \"\")","v":"so he must be telling the truth"}]
[{"$f":"IF(Q139<> -1, Q139, \"\")&IF(AND(32=99, B139>0), \" ... NO SPACE TO CONTINUE!\", \"\")","v":"and so he must be telling a falsehood"}]
[{"$f":"IF(Q140<> -1, Q140, \"\")&IF(AND(33=99, B140>0), \" ... NO SPACE TO CONTINUE!\", \"\")","v":"so he must be telling the truth"}]
[{"$f":"IF(Q141<> -1, Q141, \"\")&IF(AND(34=99, B141>0), \" ... NO SPACE TO CONTINUE!\", \"\")","v":"and so he must be telling a falsehood"}]
[{"$f":"IF(Q142<> -1, Q142, \"\")&IF(AND(35=99, B142>0), \" ... NO SPACE TO CONTINUE!\", \"\")","v":"so he must be telling the truth"}]
[{"$f":"IF(Q143<> -1, Q143, \"\")&IF(AND(36=99, B143>0), \" ... NO SPACE TO CONTINUE!\", \"\")","v":"and so he must be telling a falsehood"}]
[{"$f":"IF(Q144<> -1, Q144, \"\")&IF(AND(37=99, B144>0), \" ... NO SPACE TO CONTINUE!\", \"\")","v":"so he must be telling the truth"}]
[{"$f":"IF(Q145<> -1, Q145, \"\")&IF(AND(38=99, B145>0), \" ... NO SPACE TO CONTINUE!\", \"\")","v":"and so he must be telling a falsehood"}]
[{"$f":"IF(Q146<> -1, Q146, \"\")&IF(AND(39=99, B146>0), \" ... NO SPACE TO CONTINUE!\", \"\")","v":"so he must be telling the truth"}]
[{"$f":"IF(Q147<> -1, Q147, \"\")&IF(AND(40=99, B147>0), \" ... NO SPACE TO CONTINUE!\", \"\")","v":"and so he must be telling a falsehood"}]
[{"$f":"IF(Q148<> -1, Q148, \"\")&IF(AND(41=99, B148>0), \" ... NO SPACE TO CONTINUE!\", \"\")","v":"so he must be telling the truth"}]
[{"$f":"IF(Q149<> -1, Q149, \"\")&IF(AND(42=99, B149>0), \" ... NO SPACE TO CONTINUE!\", \"\")","v":"and so he must be telling a falsehood"}]
[{"$f":"IF(Q150<> -1, Q150, \"\")&IF(AND(43=99, B150>0), \" ... NO SPACE TO CONTINUE!\", \"\")","v":"so he must be telling the truth"}]
[{"$f":"IF(Q151<> -1, Q151, \"\")&IF(AND(44=99, B151>0), \" ... NO SPACE TO CONTINUE!\", \"\")","v":"and so he must be telling a falsehood"}]
[{"$f":"IF(Q152<> -1, Q152, \"\")&IF(AND(45=99, B152>0), \" ... NO SPACE TO CONTINUE!\", \"\")","v":"so he must be telling the truth"}]
[{"$f":"IF(Q153<> -1, Q153, \"\")&IF(AND(46=99, B153>0), \" ... NO SPACE TO CONTINUE!\", \"\")","v":"and so he must be telling a falsehood"}]
[{"$f":"IF(Q154<> -1, Q154, \"\")&IF(AND(47=99, B154>0), \" ... NO SPACE TO CONTINUE!\", \"\")","v":"so he must be telling the truth"}]
[{"$f":"IF(Q155<> -1, Q155, \"\")&IF(AND(48=99, B155>0), \" ... NO SPACE TO CONTINUE!\", \"\")","v":"and so he must be telling a falsehood"}]
[{"$f":"IF(Q156<> -1, Q156, \"\")&IF(AND(49=99, B156>0), \" ... NO SPACE TO CONTINUE!\", \"\")","v":"so he must be telling the truth"}]
[{"$f":"IF(Q157<> -1, Q157, \"\")&IF(AND(50=99, B157>0), \" ... NO SPACE TO CONTINUE!\", \"\")","v":"and so he must be telling a falsehood"}]
[{"$f":"IF(Q158<> -1, Q158, \"\")&IF(AND(51=99, B158>0), \" ... NO SPACE TO CONTINUE!\", \"\")","v":"so he must be telling the truth"}]
[{"$f":"IF(Q159<> -1, Q159, \"\")&IF(AND(52=99, B159>0), \" ... NO SPACE TO CONTINUE!\", \"\")","v":"and so he must be telling a falsehood"}]
[{"$f":"IF(Q160<> -1, Q160, \"\")&IF(AND(53=99, B160>0), \" ... NO SPACE TO CONTINUE!\", \"\")","v":"so he must be telling the truth"}]
[{"$f":"IF(Q161<> -1, Q161, \"\")&IF(AND(54=99, B161>0), \" ... NO SPACE TO CONTINUE!\", \"\")","v":"and so he must be telling a falsehood"}]
[{"$f":"IF(Q162<> -1, Q162, \"\")&IF(AND(55=99, B162>0), \" ... NO SPACE TO CONTINUE!\", \"\")","v":"so he must be telling the truth"}]
[{"$f":"IF(Q163<> -1, Q163, \"\")&IF(AND(56=99, B163>0), \" ... NO SPACE TO CONTINUE!\", \"\")","v":"and so he must be telling a falsehood"}]
[{"$f":"IF(Q164<> -1, Q164, \"\")&IF(AND(57=99, B164>0), \" ... NO SPACE TO CONTINUE!\", \"\")","v":"so he must be telling the truth"}]
[{"$f":"IF(Q165<> -1, Q165, \"\")&IF(AND(58=99, B165>0), \" ... NO SPACE TO CONTINUE!\", \"\")","v":"and so he must be telling a falsehood"}]
[{"$f":"IF(Q166<> -1, Q166, \"\")&IF(AND(59=99, B166>0), \" ... NO SPACE TO CONTINUE!\", \"\")","v":"so he must be telling the truth"}]
[{"$f":"IF(Q167<> -1, Q167, \"\")&IF(AND(60=99, B167>0), \" ... NO SPACE TO CONTINUE!\", \"\")","v":"and so he must be telling a falsehood"}]
[{"$f":"IF(Q168<> -1, Q168, \"\")&IF(AND(61=99, B168>0), \" ... NO SPACE TO CONTINUE!\", \"\")","v":"so he must be telling the truth"}]
[{"$f":"IF(Q169<> -1, Q169, \"\")&IF(AND(62=99, B169>0), \" ... NO SPACE TO CONTINUE!\", \"\")","v":"and so he must be telling a falsehood"}]
[{"$f":"IF(Q170<> -1, Q170, \"\")&IF(AND(63=99, B170>0), \" ... NO SPACE TO CONTINUE!\", \"\")","v":"so he must be telling the truth"}]
[{"$f":"IF(Q171<> -1, Q171, \"\")&IF(AND(64=99, B171>0), \" ... NO SPACE TO CONTINUE!\", \"\")","v":"and so he must be telling a falsehood"}]
[{"$f":"IF(Q172<> -1, Q172, \"\")&IF(AND(65=99, B172>0), \" ... NO SPACE TO CONTINUE!\", \"\")","v":"so he must be telling the truth"}]
[{"$f":"IF(Q173<> -1, Q173, \"\")&IF(AND(66=99, B173>0), \" ... NO SPACE TO CONTINUE!\", \"\")","v":"and so he must be telling a falsehood"}]
[{"$f":"IF(Q174<> -1, Q174, \"\")&IF(AND(67=99, B174>0), \" ... NO SPACE TO CONTINUE!\", \"\")","v":"so he must be telling the truth"}]
[{"$f":"IF(Q175<> -1, Q175, \"\")&IF(AND(68=99, B175>0), \" ... NO SPACE TO CONTINUE!\", \"\")","v":"and so he must be telling a falsehood"}]
[{"$f":"IF(Q176<> -1, Q176, \"\")&IF(AND(69=99, B176>0), \" ... NO SPACE TO CONTINUE!\", \"\")","v":"so he must be telling the truth"}]
[{"$f":"IF(Q177<> -1, Q177, \"\")&IF(AND(70=99, B177>0), \" ... NO SPACE TO CONTINUE!\", \"\")","v":"and so he must be telling a falsehood"}]
[{"$f":"IF(Q178<> -1, Q178, \"\")&IF(AND(71=99, B178>0), \" ... NO SPACE TO CONTINUE!\", \"\")","v":"so he must be telling the truth"}]
[{"$f":"IF(Q179<> -1, Q179, \"\")&IF(AND(72=99, B179>0), \" ... NO SPACE TO CONTINUE!\", \"\")","v":"and so he must be telling a falsehood"}]
[{"$f":"IF(Q180<> -1, Q180, \"\")&IF(AND(73=99, B180>0), \" ... NO SPACE TO CONTINUE!\", \"\")","v":"so he must be telling the truth"}]
[{"$f":"IF(Q181<> -1, Q181, \"\")&IF(AND(74=99, B181>0), \" ... NO SPACE TO CONTINUE!\", \"\")","v":"and so he must be telling a falsehood"}]
[{"$f":"IF(Q182<> -1, Q182, \"\")&IF(AND(75=99, B182>0), \" ... NO SPACE TO CONTINUE!\", \"\")","v":"so he must be telling the truth"}]
[{"$f":"IF(Q183<> -1, Q183, \"\")&IF(AND(76=99, B183>0), \" ... NO SPACE TO CONTINUE!\", \"\")","v":"and so he must be telling a falsehood"}]
[{"$f":"IF(Q184<> -1, Q184, \"\")&IF(AND(77=99, B184>0), \" ... NO SPACE TO CONTINUE!\", \"\")","v":"so he must be telling the truth"}]
[{"$f":"IF(Q185<> -1, Q185, \"\")&IF(AND(78=99, B185>0), \" ... NO SPACE TO CONTINUE!\", \"\")","v":"and so he must be telling a falsehood"}]
[{"$f":"IF(Q186<> -1, Q186, \"\")&IF(AND(79=99, B186>0), \" ... NO SPACE TO CONTINUE!\", \"\")","v":"so he must be telling the truth"}]
[{"$f":"IF(Q187<> -1, Q187, \"\")&IF(AND(80=99, B187>0), \" ... NO SPACE TO CONTINUE!\", \"\")","v":"and so he must be telling a falsehood"}]
[{"$f":"IF(Q188<> -1, Q188, \"\")&IF(AND(81=99, B188>0), \" ... NO SPACE TO CONTINUE!\", \"\")","v":"so he must be telling the truth"}]
[{"$f":"IF(Q189<> -1, Q189, \"\")&IF(AND(82=99, B189>0), \" ... NO SPACE TO CONTINUE!\", \"\")","v":"and so he must be telling a falsehood"}]
[{"$f":"IF(Q190<> -1, Q190, \"\")&IF(AND(83=99, B190>0), \" ... NO SPACE TO CONTINUE!\", \"\")","v":"so he must be telling the truth"}]
[{"$f":"IF(Q191<> -1, Q191, \"\")&IF(AND(84=99, B191>0), \" ... NO SPACE TO CONTINUE!\", \"\")","v":"and so he must be telling a falsehood"}]
[{"$f":"IF(Q192<> -1, Q192, \"\")&IF(AND(85=99, B192>0), \" ... NO SPACE TO CONTINUE!\", \"\")","v":"so he must be telling the truth"}]
[{"$f":"IF(Q193<> -1, Q193, \"\")&IF(AND(86=99, B193>0), \" ... NO SPACE TO CONTINUE!\", \"\")","v":"and so he must be telling a falsehood"}]
[{"$f":"IF(Q194<> -1, Q194, \"\")&IF(AND(87=99, B194>0), \" ... NO SPACE TO CONTINUE!\", \"\")","v":"so he must be telling the truth"}]
[{"$f":"IF(Q195<> -1, Q195, \"\")&IF(AND(88=99, B195>0), \" ... NO SPACE TO CONTINUE!\", \"\")","v":"and so he must be telling a falsehood"}]
[{"$f":"IF(Q196<> -1, Q196, \"\")&IF(AND(89=99, B196>0), \" ... NO SPACE TO CONTINUE!\", \"\")","v":"so he must be telling the truth"}]
[{"$f":"IF(Q197<> -1, Q197, \"\")&IF(AND(90=99, B197>0), \" ... NO SPACE TO CONTINUE!\", \"\")","v":"and so he must be telling a falsehood"}]
[{"$f":"IF(Q198<> -1, Q198, \"\")&IF(AND(91=99, B198>0), \" ... NO SPACE TO CONTINUE!\", \"\")","v":"so he must be telling the truth"}]
[{"$f":"IF(Q199<> -1, Q199, \"\")&IF(AND(92=99, B199>0), \" ... NO SPACE TO CONTINUE!\", \"\")","v":"and so he must be telling a falsehood"}]
[{"$f":"IF(Q200<> -1, Q200, \"\")&IF(AND(93=99, B200>0), \" ... NO SPACE TO CONTINUE!\", \"\")","v":"so he must be telling the truth"}]
[{"$f":"IF(Q201<> -1, Q201, \"\")&IF(AND(94=99, B201>0), \" ... NO SPACE TO CONTINUE!\", \"\")","v":"and so he must be telling a falsehood"}]
[{"$f":"IF(Q202<> -1, Q202, \"\")&IF(AND(95=99, B202>0), \" ... NO SPACE TO CONTINUE!\", \"\")","v":"so he must be telling the truth"}]
[{"$f":"IF(Q203<> -1, Q203, \"\")&IF(AND(96=99, B203>0), \" ... NO SPACE TO CONTINUE!\", \"\")","v":"and so he must be telling a falsehood"}]
[{"$f":"IF(Q204<> -1, Q204, \"\")&IF(AND(97=99, B204>0), \" ... NO SPACE TO CONTINUE!\", \"\")","v":"so he must be telling the truth"}]
[{"$f":"IF(Q205<> -1, Q205, \"\")&IF(AND(98=99, B205>0), \" ... NO SPACE TO CONTINUE!\", \"\")","v":"and so he must be telling a falsehood"}]
[{"$f":"IF(Q206<> -1, Q206, \"\")&IF(AND(99=99, B206>0), \" ... NO SPACE TO CONTINUE!\", \"\")","v":"so he must be telling the truth ... NO SPACE TO CONTINUE!"}]
[]
[]
[{"$f":"\"story node nos\"","v":"story node nos"},{"$f":"\"story out edge count\"","v":"story out edge count"},null,null,null,null,null,null,null,null,null,null,null,null,{"$f":"\"story out edge index\"","v":"story out edge index"},{"$f":"\"story out edge destination node no\"","v":"story out edge destination node no"},{"$f":"\"story out text\"","v":"story out text"}]
[{"$f":"IF(B4=\"Recalculate\", 0, 0)","v":0},{"$f":"IF(A107<> -1, OFFSET(O210, A107, 0), 0)","v":3},null,null,null,null,null,null,null,null,null,null,null,null,{"$f":"IF(B107>0,RANDBETWEEN( 0, B107-1), -1)","v":0},{"$f":"IF(O107<> -1, OFFSET(B210, A107, O107*2+1), -1)","v":1},{"$f":"IF(O107<> -1, OFFSET(B210, A107, O107*2), -1)","v":"Earth"}]
[{"$f":"P107","v":1},{"$f":"IF(A108<> -1, OFFSET(O210, A108, 0), 0)","v":6},null,null,null,null,null,null,null,null,null,null,null,null,0,{"$f":"IF(O108<> -1, OFFSET(B210, A108, O108*2+1), -1)","v":2},{"$f":"IF(O108<> -1, OFFSET(B210, A108, O108*2), -1)","v":"is used as the cue ball in a game of galactic bar-billiards"}]
[2,{"$f":"IF(A109<> -1, OFFSET(O210, A109, 0), 0)","v":4},null,null,null,null,null,null,null,null,null,null,null,null,3,{"$f":"IF(O109<> -1, OFFSET(B210, A109, O109*2+1), -1)","v":4},{"$f":"IF(O109<> -1, OFFSET(B210, A109, O109*2), -1)","v":"and is visited by good"}]
[4,{"$f":"IF(A110<> -1, OFFSET(O210, A110, 0), 0)","v":3},null,null,null,null,null,null,null,null,null,null,null,null,2,{"$f":"IF(O110<> -1, OFFSET(B210, A110, O110*2+1), -1)","v":5},{"$f":"IF(O110<> -1, OFFSET(B210, A110, O110*2), -1)","v":"mutant brewers yeast cells"}]
[5,{"$f":"IF(A111<> -1, OFFSET(O210, A111, 0), 0)","v":2},null,null,null,null,null,null,null,null,null,null,null,null,1,{"$f":"IF(O111<> -1, OFFSET(B210, A111, O111*2+1), -1)","v":17},{"$f":"IF(O111<> -1, OFFSET(B210, A111, O111*2), -1)","v":"who"}]
[17,{"$f":"IF(A112<> -1, OFFSET(O210, A112, 0), 0)","v":6},null,null,null,null,null,null,null,null,null,null,null,null,5,{"$f":"IF(O112<> -1, OFFSET(B210, A112, O112*2+1), -1)","v":27},{"$f":"IF(O112<> -1, OFFSET(B210, A112, O112*2), -1)","v":"steal its reserves of"}]
[27,{"$f":"IF(A113<> -1, OFFSET(O210, A113, 0), 0)","v":4},null,null,null,null,null,null,null,null,null,null,null,null,1,{"$f":"IF(O113<> -1, OFFSET(B210, A113, O113*2+1), -1)","v":28},{"$f":"IF(O113<> -1, OFFSET(B210, A113, O113*2), -1)","v":"iron"}]
[28,{"$f":"IF(A114<> -1, OFFSET(O210, A114, 0), 0)","v":2},null,null,null,null,null,null,null,null,null,null,null,null,1,{"$f":"IF(O114<> -1, OFFSET(B210, A114, O114*2+1), -1)","v":22},{"$f":"IF(O114<> -1, OFFSET(B210, A114, O114*2), -1)","v":"and"}]
[22,{"$f":"IF(A115<> -1, OFFSET(O210, A115, 0), 0)","v":1},null,null,null,null,null,null,null,null,null,null,null,null,0,{"$f":"IF(O115<> -1, OFFSET(B210, A115, O115*2+1), -1)","v":23},{"$f":"IF(O115<> -1, OFFSET(B210, A115, O115*2), -1)","v":"are stopped by a logician"}]
[23,{"$f":"IF(A116<> -1, OFFSET(O210, A116, 0), 0)","v":2},null,null,null,null,null,null,null,null,null,null,null,null,0,{"$f":"IF(O116<> -1, OFFSET(B210, A116, O116*2+1), -1)","v":24},{"$f":"IF(O116<> -1, OFFSET(B210, A116, O116*2), -1)","v":"who says 'I am lying'"}]
[24,{"$f":"IF(A117<> -1, OFFSET(O210, A117, 0), 0)","v":1},null,null,null,null,null,null,null,null,null,null,null,null,0,{"$f":"IF(O117<> -1, OFFSET(B210, A117, O117*2+1), -1)","v":25},{"$f":"IF(O117<> -1, OFFSET(B210, A117, O117*2), -1)","v":"and so he must be telling a falsehood"}]
[25,{"$f":"IF(A118<> -1, OFFSET(O210, A118, 0), 0)","v":1},null,null,null,null,null,null,null,null,null,null,null,null,0,{"$f":"IF(O118<> -1, OFFSET(B210, A118, O118*2+1), -1)","v":24},{"$f":"IF(O118<> -1, OFFSET(B210, A118, O118*2), -1)","v":"so he must be telling the truth"}]
[24,{"$f":"IF(A119<> -1, OFFSET(O210, A119, 0), 0)","v":1},null,null,null,null,null,null,null,null,null,null,null,null,0,{"$f":"IF(O119<> -1, OFFSET(B210, A119, O119*2+1), -1)","v":25},{"$f":"IF(O119<> -1, OFFSET(B210, A119, O119*2), -1)","v":"and so he must be telling a falsehood"}]
[25,{"$f":"IF(A120<> -1, OFFSET(O210, A120, 0), 0)","v":1},null,null,null,null,null,null,null,null,null,null,null,null,0,{"$f":"IF(O120<> -1, OFFSET(B210, A120, O120*2+1), -1)","v":24},{"$f":"IF(O120<> -1, OFFSET(B210, A120, O120*2), -1)","v":"so he must be telling the truth"}]
[24,{"$f":"IF(A121<> -1, OFFSET(O210, A121, 0), 0)","v":1},null,null,null,null,null,null,null,null,null,null,null,null,0,{"$f":"IF(O121<> -1, OFFSET(B210, A121, O121*2+1), -1)","v":25},{"$f":"IF(O121<> -1, OFFSET(B210, A121, O121*2), -1)","v":"and so he must be telling a falsehood"}]
[25,{"$f":"IF(A122<> -1, OFFSET(O210, A122, 0), 0)","v":1},null,null,null,null,null,null,null,null,null,null,null,null,0,{"$f":"IF(O122<> -1, OFFSET(B210, A122, O122*2+1), -1)","v":24},{"$f":"IF(O122<> -1, OFFSET(B210, A122, O122*2), -1)","v":"so he must be telling the truth"}]
[24,{"$f":"IF(A123<> -1, OFFSET(O210, A123, 0), 0)","v":1},null,null,null,null,null,null,null,null,null,null,null,null,0,{"$f":"IF(O123<> -1, OFFSET(B210, A123, O123*2+1), -1)","v":25},{"$f":"IF(O123<> -1, OFFSET(B210, A123, O123*2), -1)","v":"and so he must be telling a falsehood"}]
[25,{"$f":"IF(A124<> -1, OFFSET(O210, A124, 0), 0)","v":1},null,null,null,null,null,null,null,null,null,null,null,null,0,{"$f":"IF(O124<> -1, OFFSET(B210, A124, O124*2+1), -1)","v":24},{"$f":"IF(O124<> -1, OFFSET(B210, A124, O124*2), -1)","v":"so he must be telling the truth"}]
[24,{"$f":"IF(A125<> -1, OFFSET(O210, A125, 0), 0)","v":1},null,null,null,null,null,null,null,null,null,null,null,null,0,{"$f":"IF(O125<> -1, OFFSET(B210, A125, O125*2+1), -1)","v":25},{"$f":"IF(O125<> -1, OFFSET(B210, A125, O125*2), -1)","v":"and so he must be telling a falsehood"}]
[25,{"$f":"IF(A126<> -1, OFFSET(O210, A126, 0), 0)","v":1},null,null,null,null,null,null,null,null,null,null,null,null,0,{"$f":"IF(O126<> -1, OFFSET(B210, A126, O126*2+1), -1)","v":24},{"$f":"IF(O126<> -1, OFFSET(B210, A126, O126*2), -1)","v":"so he must be telling the truth"}]
[24,{"$f":"IF(A127<> -1, OFFSET(O210, A127, 0), 0)","v":1},null,null,null,null,null,null,null,null,null,null,null,null,0,{"$f":"IF(O127<> -1, OFFSET(B210, A127, O127*2+1), -1)","v":25},{"$f":"IF(O127<> -1, OFFSET(B210, A127, O127*2), -1)","v":"and so he must be telling a falsehood"}]
[25,{"$f":"IF(A128<> -1, OFFSET(O210, A128, 0), 0)","v":1},null,null,null,null,null,null,null,null,null,null,null,null,0,{"$f":"IF(O128<> -1, OFFSET(B210, A128, O128*2+1), -1)","v":24},{"$f":"IF(O128<> -1, OFFSET(B210, A128, O128*2), -1)","v":"so he must be telling the truth"}]
[24,{"$f":"IF(A129<> -1, OFFSET(O210, A129, 0), 0)","v":1},null,null,null,null,null,null,null,null,null,null,null,null,0,{"$f":"IF(O129<> -1, OFFSET(B210, A129, O129*2+1), -1)","v":25},{"$f":"IF(O129<> -1, OFFSET(B210, A129, O129*2), -1)","v":"and so he must be telling a falsehood"}]
[25,{"$f":"IF(A130<> -1, OFFSET(O210, A130, 0), 0)","v":1},null,null,null,null,null,null,null,null,null,null,null,null,0,{"$f":"IF(O130<> -1, OFFSET(B210, A130, O130*2+1), -1)","v":24},{"$f":"IF(O130<> -1, OFFSET(B210, A130, O130*2), -1)","v":"so he must be telling the truth"}]
[24,{"$f":"IF(A131<> -1, OFFSET(O210, A131, 0), 0)","v":1},null,null,null,null,null,null,null,null,null,null,null,null,0,{"$f":"IF(O131<> -1, OFFSET(B210, A131, O131*2+1), -1)","v":25},{"$f":"IF(O131<> -1, OFFSET(B210, A131, O131*2), -1)","v":"and so he must be telling a falsehood"}]
[25,{"$f":"IF(A132<> -1, OFFSET(O210, A132, 0), 0)","v":1},null,null,null,null,null,null,null,null,null,null,null,null,0,{"$f":"IF(O132<> -1, OFFSET(B210, A132, O132*2+1), -1)","v":24},{"$f":"IF(O132<> -1, OFFSET(B210, A132, O132*2), -1)","v":"so he must be telling the truth"}]
[24,{"$f":"IF(A133<> -1, OFFSET(O210, A133, 0), 0)","v":1},null,null,null,null,null,null,null,null,null,null,null,null,0,{"$f":"IF(O133<> -1, OFFSET(B210, A133, O133*2+1), -1)","v":25},{"$f":"IF(O133<> -1, OFFSET(B210, A133, O133*2), -1)","v":"and so he must be telling a falsehood"}]
[25,{"$f":"IF(A134<> -1, OFFSET(O210, A134, 0), 0)","v":1},null,null,null,null,null,null,null,null,null,null,null,null,0,{"$f":"IF(O134<> -1, OFFSET(B210, A134, O134*2+1), -1)","v":24},{"$f":"IF(O134<> -1, OFFSET(B210, A134, O134*2), -1)","v":"so he must be telling the truth"}]
[24,{"$f":"IF(A135<> -1, OFFSET(O210, A135, 0), 0)","v":1},null,null,null,null,null,null,null,null,null,null,null,null,0,{"$f":"IF(O135<> -1, OFFSET(B210, A135, O135*2+1), -1)","v":25},{"$f":"IF(O135<> -1, OFFSET(B210, A135, O135*2), -1)","v":"and so he must be telling a falsehood"}]
[25,{"$f":"IF(A136<> -1, OFFSET(O210, A136, 0), 0)","v":1},null,null,null,null,null,null,null,null,null,null,null,null,0,{"$f":"IF(O136<> -1, OFFSET(B210, A136, O136*2+1), -1)","v":24},{"$f":"IF(O136<> -1, OFFSET(B210, A136, O136*2), -1)","v":"so he must be telling the truth"}]
[24,{"$f":"IF(A137<> -1, OFFSET(O210, A137, 0), 0)","v":1},null,null,null,null,null,null,null,null,null,null,null,null,0,{"$f":"IF(O137<> -1, OFFSET(B210, A137, O137*2+1), -1)","v":25},{"$f":"IF(O137<> -1, OFFSET(B210, A137, O137*2), -1)","v":"and so he must be telling a falsehood"}]
[25,{"$f":"IF(A138<> -1, OFFSET(O210, A138, 0), 0)","v":1},null,null,null,null,null,null,null,null,null,null,null,null,0,{"$f":"IF(O138<> -1, OFFSET(B210, A138, O138*2+1), -1)","v":24},{"$f":"IF(O138<> -1, OFFSET(B210, A138, O138*2), -1)","v":"so he must be telling the truth"}]
[24,{"$f":"IF(A139<> -1, OFFSET(O210, A139, 0), 0)","v":1},null,null,null,null,null,null,null,null,null,null,null,null,{"$f":"IF(B139>0,RANDBETWEEN( 0, B139-1), -1)","v":0},{"$f":"IF(O139<> -1, OFFSET(B210, A139, O139*2+1), -1)","v":25},{"$f":"IF(O139<> -1, OFFSET(B210, A139, O139*2), -1)","v":"and so he must be telling a falsehood"}]
[{"$f":"P139","v":25},{"$f":"IF(A140<> -1, OFFSET(O210, A140, 0), 0)","v":1},null,null,null,null,null,null,null,null,null,null,null,null,0,{"$f":"IF(O140<> -1, OFFSET(B210, A140, O140*2+1), -1)","v":24},{"$f":"IF(O140<> -1, OFFSET(B210, A140, O140*2), -1)","v":"so he must be telling the truth"}]
[24,{"$f":"IF(A141<> -1, OFFSET(O210, A141, 0), 0)","v":1},null,null,null,null,null,null,null,null,null,null,null,null,0,{"$f":"IF(O141<> -1, OFFSET(B210, A141, O141*2+1), -1)","v":25},{"$f":"IF(O141<> -1, OFFSET(B210, A141, O141*2), -1)","v":"and so he must be telling a falsehood"}]
[25,{"$f":"IF(A142<> -1, OFFSET(O210, A142, 0), 0)","v":1},null,null,null,null,null,null,null,null,null,null,null,null,0,{"$f":"IF(O142<> -1, OFFSET(B210, A142, O142*2+1), -1)","v":24},{"$f":"IF(O142<> -1, OFFSET(B210, A142, O142*2), -1)","v":"so he must be telling the truth"}]
[24,{"$f":"IF(A143<> -1, OFFSET(O210, A143, 0), 0)","v":1},null,null,null,null,null,null,null,null,null,null,null,null,0,{"$f":"IF(O143<> -1, OFFSET(B210, A143, O143*2+1), -1)","v":25},{"$f":"IF(O143<> -1, OFFSET(B210, A143, O143*2), -1)","v":"and so he must be telling a falsehood"}]
[25,{"$f":"IF(A144<> -1, OFFSET(O210, A144, 0), 0)","v":1},null,null,null,null,null,null,null,null,null,null,null,null,0,{"$f":"IF(O144<> -1, OFFSET(B210, A144, O144*2+1), -1)","v":24},{"$f":"IF(O144<> -1, OFFSET(B210, A144, O144*2), -1)","v":"so he must be telling the truth"}]
[24,{"$f":"IF(A145<> -1, OFFSET(O210, A145, 0), 0)","v":1},null,null,null,null,null,null,null,null,null,null,null,null,0,{"$f":"IF(O145<> -1, OFFSET(B210, A145, O145*2+1), -1)","v":25},{"$f":"IF(O145<> -1, OFFSET(B210, A145, O145*2), -1)","v":"and so he must be telling a falsehood"}]
[25,{"$f":"IF(A146<> -1, OFFSET(O210, A146, 0), 0)","v":1},null,null,null,null,null,null,null,null,null,null,null,null,0,{"$f":"IF(O146<> -1, OFFSET(B210, A146, O146*2+1), -1)","v":24},{"$f":"IF(O146<> -1, OFFSET(B210, A146, O146*2), -1)","v":"so he must be telling the truth"}]
[24,{"$f":"IF(A147<> -1, OFFSET(O210, A147, 0), 0)","v":1},null,null,null,null,null,null,null,null,null,null,null,null,0,{"$f":"IF(O147<> -1, OFFSET(B210, A147, O147*2+1), -1)","v":25},{"$f":"IF(O147<> -1, OFFSET(B210, A147, O147*2), -1)","v":"and so he must be telling a falsehood"}]
[25,{"$f":"IF(A148<> -1, OFFSET(O210, A148, 0), 0)","v":1},null,null,null,null,null,null,null,null,null,null,null,null,0,{"$f":"IF(O148<> -1, OFFSET(B210, A148, O148*2+1), -1)","v":24},{"$f":"IF(O148<> -1, OFFSET(B210, A148, O148*2), -1)","v":"so he must be telling the truth"}]
[24,{"$f":"IF(A149<> -1, OFFSET(O210, A149, 0), 0)","v":1},null,null,null,null,null,null,null,null,null,null,null,null,0,{"$f":"IF(O149<> -1, OFFSET(B210, A149, O149*2+1), -1)","v":25},{"$f":"IF(O149<> -1, OFFSET(B210, A149, O149*2), -1)","v":"and so he must be telling a falsehood"}]
[25,{"$f":"IF(A150<> -1, OFFSET(O210, A150, 0), 0)","v":1},null,null,null,null,null,null,null,null,null,null,null,null,0,{"$f":"IF(O150<> -1, OFFSET(B210, A150, O150*2+1), -1)","v":24},{"$f":"IF(O150<> -1, OFFSET(B210, A150, O150*2), -1)","v":"so he must be telling the truth"}]
[24,{"$f":"IF(A151<> -1, OFFSET(O210, A151, 0), 0)","v":1},null,null,null,null,null,null,null,null,null,null,null,null,0,{"$f":"IF(O151<> -1, OFFSET(B210, A151, O151*2+1), -1)","v":25},{"$f":"IF(O151<> -1, OFFSET(B210, A151, O151*2), -1)","v":"and so he must be telling a falsehood"}]
[25,{"$f":"IF(A152<> -1, OFFSET(O210, A152, 0), 0)","v":1},null,null,null,null,null,null,null,null,null,null,null,null,0,{"$f":"IF(O152<> -1, OFFSET(B210, A152, O152*2+1), -1)","v":24},{"$f":"IF(O152<> -1, OFFSET(B210, A152, O152*2), -1)","v":"so he must be telling the truth"}]
[24,{"$f":"IF(A153<> -1, OFFSET(O210, A153, 0), 0)","v":1},null,null,null,null,null,null,null,null,null,null,null,null,0,{"$f":"IF(O153<> -1, OFFSET(B210, A153, O153*2+1), -1)","v":25},{"$f":"IF(O153<> -1, OFFSET(B210, A153, O153*2), -1)","v":"and so he must be telling a falsehood"}]
[25,{"$f":"IF(A154<> -1, OFFSET(O210, A154, 0), 0)","v":1},null,null,null,null,null,null,null,null,null,null,null,null,0,{"$f":"IF(O154<> -1, OFFSET(B210, A154, O154*2+1), -1)","v":24},{"$f":"IF(O154<> -1, OFFSET(B210, A154, O154*2), -1)","v":"so he must be telling the truth"}]
[24,{"$f":"IF(A155<> -1, OFFSET(O210, A155, 0), 0)","v":1},null,null,null,null,null,null,null,null,null,null,null,null,0,{"$f":"IF(O155<> -1, OFFSET(B210, A155, O155*2+1), -1)","v":25},{"$f":"IF(O155<> -1, OFFSET(B210, A155, O155*2), -1)","v":"and so he must be telling a falsehood"}]
[25,{"$f":"IF(A156<> -1, OFFSET(O210, A156, 0), 0)","v":1},null,null,null,null,null,null,null,null,null,null,null,null,0,{"$f":"IF(O156<> -1, OFFSET(B210, A156, O156*2+1), -1)","v":24},{"$f":"IF(O156<> -1, OFFSET(B210, A156, O156*2), -1)","v":"so he must be telling the truth"}]
[24,{"$f":"IF(A157<> -1, OFFSET(O210, A157, 0), 0)","v":1},null,null,null,null,null,null,null,null,null,null,null,null,0,{"$f":"IF(O157<> -1, OFFSET(B210, A157, O157*2+1), -1)","v":25},{"$f":"IF(O157<> -1, OFFSET(B210, A157, O157*2), -1)","v":"and so he must be telling a falsehood"}]
[25,{"$f":"IF(A158<> -1, OFFSET(O210, A158, 0), 0)","v":1},null,null,null,null,null,null,null,null,null,null,null,null,0,{"$f":"IF(O158<> -1, OFFSET(B210, A158, O158*2+1), -1)","v":24},{"$f":"IF(O158<> -1, OFFSET(B210, A158, O158*2), -1)","v":"so he must be telling the truth"}]
[24,{"$f":"IF(A159<> -1, OFFSET(O210, A159, 0), 0)","v":1},null,null,null,null,null,null,null,null,null,null,null,null,0,{"$f":"IF(O159<> -1, OFFSET(B210, A159, O159*2+1), -1)","v":25},{"$f":"IF(O159<> -1, OFFSET(B210, A159, O159*2), -1)","v":"and so he must be telling a falsehood"}]
[25,{"$f":"IF(A160<> -1, OFFSET(O210, A160, 0), 0)","v":1},null,null,null,null,null,null,null,null,null,null,null,null,0,{"$f":"IF(O160<> -1, OFFSET(B210, A160, O160*2+1), -1)","v":24},{"$f":"IF(O160<> -1, OFFSET(B210, A160, O160*2), -1)","v":"so he must be telling the truth"}]
[24,{"$f":"IF(A161<> -1, OFFSET(O210, A161, 0), 0)","v":1},null,null,null,null,null,null,null,null,null,null,null,null,0,{"$f":"IF(O161<> -1, OFFSET(B210, A161, O161*2+1), -1)","v":25},{"$f":"IF(O161<> -1, OFFSET(B210, A161, O161*2), -1)","v":"and so he must be telling a falsehood"}]
[25,{"$f":"IF(A162<> -1, OFFSET(O210, A162, 0), 0)","v":1},null,null,null,null,null,null,null,null,null,null,null,null,0,{"$f":"IF(O162<> -1, OFFSET(B210, A162, O162*2+1), -1)","v":24},{"$f":"IF(O162<> -1, OFFSET(B210, A162, O162*2), -1)","v":"so he must be telling the truth"}]
[24,{"$f":"IF(A163<> -1, OFFSET(O210, A163, 0), 0)","v":1},null,null,null,null,null,null,null,null,null,null,null,null,0,{"$f":"IF(O163<> -1, OFFSET(B210, A163, O163*2+1), -1)","v":25},{"$f":"IF(O163<> -1, OFFSET(B210, A163, O163*2), -1)","v":"and so he must be telling a falsehood"}]
[25,{"$f":"IF(A164<> -1, OFFSET(O210, A164, 0), 0)","v":1},null,null,null,null,null,null,null,null,null,null,null,null,0,{"$f":"IF(O164<> -1, OFFSET(B210, A164, O164*2+1), -1)","v":24},{"$f":"IF(O164<> -1, OFFSET(B210, A164, O164*2), -1)","v":"so he must be telling the truth"}]
[24,{"$f":"IF(A165<> -1, OFFSET(O210, A165, 0), 0)","v":1},null,null,null,null,null,null,null,null,null,null,null,null,0,{"$f":"IF(O165<> -1, OFFSET(B210, A165, O165*2+1), -1)","v":25},{"$f":"IF(O165<> -1, OFFSET(B210, A165, O165*2), -1)","v":"and so he must be telling a falsehood"}]
[25,{"$f":"IF(A166<> -1, OFFSET(O210, A166, 0), 0)","v":1},null,null,null,null,null,null,null,null,null,null,null,null,0,{"$f":"IF(O166<> -1, OFFSET(B210, A166, O166*2+1), -1)","v":24},{"$f":"IF(O166<> -1, OFFSET(B210, A166, O166*2), -1)","v":"so he must be telling the truth"}]
[24,{"$f":"IF(A167<> -1, OFFSET(O210, A167, 0), 0)","v":1},null,null,null,null,null,null,null,null,null,null,null,null,0,{"$f":"IF(O167<> -1, OFFSET(B210, A167, O167*2+1), -1)","v":25},{"$f":"IF(O167<> -1, OFFSET(B210, A167, O167*2), -1)","v":"and so he must be telling a falsehood"}]
[25,{"$f":"IF(A168<> -1, OFFSET(O210, A168, 0), 0)","v":1},null,null,null,null,null,null,null,null,null,null,null,null,0,{"$f":"IF(O168<> -1, OFFSET(B210, A168, O168*2+1), -1)","v":24},{"$f":"IF(O168<> -1, OFFSET(B210, A168, O168*2), -1)","v":"so he must be telling the truth"}]
[24,{"$f":"IF(A169<> -1, OFFSET(O210, A169, 0), 0)","v":1},null,null,null,null,null,null,null,null,null,null,null,null,0,{"$f":"IF(O169<> -1, OFFSET(B210, A169, O169*2+1), -1)","v":25},{"$f":"IF(O169<> -1, OFFSET(B210, A169, O169*2), -1)","v":"and so he must be telling a falsehood"}]
[25,{"$f":"IF(A170<> -1, OFFSET(O210, A170, 0), 0)","v":1},null,null,null,null,null,null,null,null,null,null,null,null,0,{"$f":"IF(O170<> -1, OFFSET(B210, A170, O170*2+1), -1)","v":24},{"$f":"IF(O170<> -1, OFFSET(B210, A170, O170*2), -1)","v":"so he must be telling the truth"}]
[24,{"$f":"IF(A171<> -1, OFFSET(O210, A171, 0), 0)","v":1},null,null,null,null,null,null,null,null,null,null,null,null,{"$f":"IF(B171>0,RANDBETWEEN( 0, B171-1), -1)","v":0},{"$f":"IF(O171<> -1, OFFSET(B210, A171, O171*2+1), -1)","v":25},{"$f":"IF(O171<> -1, OFFSET(B210, A171, O171*2), -1)","v":"and so he must be telling a falsehood"}]
[{"$f":"P171","v":25},{"$f":"IF(A172<> -1, OFFSET(O210, A172, 0), 0)","v":1},null,null,null,null,null,null,null,null,null,null,null,null,0,{"$f":"IF(O172<> -1, OFFSET(B210, A172, O172*2+1), -1)","v":24},{"$f":"IF(O172<> -1, OFFSET(B210, A172, O172*2), -1)","v":"so he must be telling the truth"}]
[24,{"$f":"IF(A173<> -1, OFFSET(O210, A173, 0), 0)","v":1},null,null,null,null,null,null,null,null,null,null,null,null,0,{"$f":"IF(O173<> -1, OFFSET(B210, A173, O173*2+1), -1)","v":25},{"$f":"IF(O173<> -1, OFFSET(B210, A173, O173*2), -1)","v":"and so he must be telling a falsehood"}]
[25,{"$f":"IF(A174<> -1, OFFSET(O210, A174, 0), 0)","v":1},null,null,null,null,null,null,null,null,null,null,null,null,0,{"$f":"IF(O174<> -1, OFFSET(B210, A174, O174*2+1), -1)","v":24},{"$f":"IF(O174<> -1, OFFSET(B210, A174, O174*2), -1)","v":"so he must be telling the truth"}]
[24,{"$f":"IF(A175<> -1, OFFSET(O210, A175, 0), 0)","v":1},null,null,null,null,null,null,null,null,null,null,null,null,0,{"$f":"IF(O175<> -1, OFFSET(B210, A175, O175*2+1), -1)","v":25},{"$f":"IF(O175<> -1, OFFSET(B210, A175, O175*2), -1)","v":"and so he must be telling a falsehood"}]
[25,{"$f":"IF(A176<> -1, OFFSET(O210, A176, 0), 0)","v":1},null,null,null,null,null,null,null,null,null,null,null,null,0,{"$f":"IF(O176<> -1, OFFSET(B210, A176, O176*2+1), -1)","v":24},{"$f":"IF(O176<> -1, OFFSET(B210, A176, O176*2), -1)","v":"so he must be telling the truth"}]
[24,{"$f":"IF(A177<> -1, OFFSET(O210, A177, 0), 0)","v":1},null,null,null,null,null,null,null,null,null,null,null,null,0,{"$f":"IF(O177<> -1, OFFSET(B210, A177, O177*2+1), -1)","v":25},{"$f":"IF(O177<> -1, OFFSET(B210, A177, O177*2), -1)","v":"and so he must be telling a falsehood"}]
[25,{"$f":"IF(A178<> -1, OFFSET(O210, A178, 0), 0)","v":1},null,null,null,null,null,null,null,null,null,null,null,null,0,{"$f":"IF(O178<> -1, OFFSET(B210, A178, O178*2+1), -1)","v":24},{"$f":"IF(O178<> -1, OFFSET(B210, A178, O178*2), -1)","v":"so he must be telling the truth"}]
[24,{"$f":"IF(A179<> -1, OFFSET(O210, A179, 0), 0)","v":1},null,null,null,null,null,null,null,null,null,null,null,null,0,{"$f":"IF(O179<> -1, OFFSET(B210, A179, O179*2+1), -1)","v":25},{"$f":"IF(O179<> -1, OFFSET(B210, A179, O179*2), -1)","v":"and so he must be telling a falsehood"}]
[25,{"$f":"IF(A180<> -1, OFFSET(O210, A180, 0), 0)","v":1},null,null,null,null,null,null,null,null,null,null,null,null,0,{"$f":"IF(O180<> -1, OFFSET(B210, A180, O180*2+1), -1)","v":24},{"$f":"IF(O180<> -1, OFFSET(B210, A180, O180*2), -1)","v":"so he must be telling the truth"}]
[24,{"$f":"IF(A181<> -1, OFFSET(O210, A181, 0), 0)","v":1},null,null,null,null,null,null,null,null,null,null,null,null,0,{"$f":"IF(O181<> -1, OFFSET(B210, A181, O181*2+1), -1)","v":25},{"$f":"IF(O181<> -1, OFFSET(B210, A181, O181*2), -1)","v":"and so he must be telling a falsehood"}]
[25,{"$f":"IF(A182<> -1, OFFSET(O210, A182, 0), 0)","v":1},null,null,null,null,null,null,null,null,null,null,null,null,0,{"$f":"IF(O182<> -1, OFFSET(B210, A182, O182*2+1), -1)","v":24},{"$f":"IF(O182<> -1, OFFSET(B210, A182, O182*2), -1)","v":"so he must be telling the truth"}]
[24,{"$f":"IF(A183<> -1, OFFSET(O210, A183, 0), 0)","v":1},null,null,null,null,null,null,null,null,null,null,null,null,0,{"$f":"IF(O183<> -1, OFFSET(B210, A183, O183*2+1), -1)","v":25},{"$f":"IF(O183<> -1, OFFSET(B210, A183, O183*2), -1)","v":"and so he must be telling a falsehood"}]
[25,{"$f":"IF(A184<> -1, OFFSET(O210, A184, 0), 0)","v":1},null,null,null,null,null,null,null,null,null,null,null,null,0,{"$f":"IF(O184<> -1, OFFSET(B210, A184, O184*2+1), -1)","v":24},{"$f":"IF(O184<> -1, OFFSET(B210, A184, O184*2), -1)","v":"so he must be telling the truth"}]
[24,{"$f":"IF(A185<> -1, OFFSET(O210, A185, 0), 0)","v":1},null,null,null,null,null,null,null,null,null,null,null,null,0,{"$f":"IF(O185<> -1, OFFSET(B210, A185, O185*2+1), -1)","v":25},{"$f":"IF(O185<> -1, OFFSET(B210, A185, O185*2), -1)","v":"and so he must be telling a falsehood"}]
[25,{"$f":"IF(A186<> -1, OFFSET(O210, A186, 0), 0)","v":1},null,null,null,null,null,null,null,null,null,null,null,null,0,{"$f":"IF(O186<> -1, OFFSET(B210, A186, O186*2+1), -1)","v":24},{"$f":"IF(O186<> -1, OFFSET(B210, A186, O186*2), -1)","v":"so he must be telling the truth"}]
[24,{"$f":"IF(A187<> -1, OFFSET(O210, A187, 0), 0)","v":1},null,null,null,null,null,null,null,null,null,null,null,null,0,{"$f":"IF(O187<> -1, OFFSET(B210, A187, O187*2+1), -1)","v":25},{"$f":"IF(O187<> -1, OFFSET(B210, A187, O187*2), -1)","v":"and so he must be telling a falsehood"}]
[25,{"$f":"IF(A188<> -1, OFFSET(O210, A188, 0), 0)","v":1},null,null,null,null,null,null,null,null,null,null,null,null,0,{"$f":"IF(O188<> -1, OFFSET(B210, A188, O188*2+1), -1)","v":24},{"$f":"IF(O188<> -1, OFFSET(B210, A188, O188*2), -1)","v":"so he must be telling the truth"}]
[24,{"$f":"IF(A189<> -1, OFFSET(O210, A189, 0), 0)","v":1},null,null,null,null,null,null,null,null,null,null,null,null,0,{"$f":"IF(O189<> -1, OFFSET(B210, A189, O189*2+1), -1)","v":25},{"$f":"IF(O189<> -1, OFFSET(B210, A189, O189*2), -1)","v":"and so he must be telling a falsehood"}]
[25,{"$f":"IF(A190<> -1, OFFSET(O210, A190, 0), 0)","v":1},null,null,null,null,null,null,null,null,null,null,null,null,0,{"$f":"IF(O190<> -1, OFFSET(B210, A190, O190*2+1), -1)","v":24},{"$f":"IF(O190<> -1, OFFSET(B210, A190, O190*2), -1)","v":"so he must be telling the truth"}]
[24,{"$f":"IF(A191<> -1, OFFSET(O210, A191, 0), 0)","v":1},null,null,null,null,null,null,null,null,null,null,null,null,0,{"$f":"IF(O191<> -1, OFFSET(B210, A191, O191*2+1), -1)","v":25},{"$f":"IF(O191<> -1, OFFSET(B210, A191, O191*2), -1)","v":"and so he must be telling a falsehood"}]
[25,{"$f":"IF(A192<> -1, OFFSET(O210, A192, 0), 0)","v":1},null,null,null,null,null,null,null,null,null,null,null,null,0,{"$f":"IF(O192<> -1, OFFSET(B210, A192, O192*2+1), -1)","v":24},{"$f":"IF(O192<> -1, OFFSET(B210, A192, O192*2), -1)","v":"so he must be telling the truth"}]
[24,{"$f":"IF(A193<> -1, OFFSET(O210, A193, 0), 0)","v":1},null,null,null,null,null,null,null,null,null,null,null,null,0,{"$f":"IF(O193<> -1, OFFSET(B210, A193, O193*2+1), -1)","v":25},{"$f":"IF(O193<> -1, OFFSET(B210, A193, O193*2), -1)","v":"and so he must be telling a falsehood"}]
[25,{"$f":"IF(A194<> -1, OFFSET(O210, A194, 0), 0)","v":1},null,null,null,null,null,null,null,null,null,null,null,null,0,{"$f":"IF(O194<> -1, OFFSET(B210, A194, O194*2+1), -1)","v":24},{"$f":"IF(O194<> -1, OFFSET(B210, A194, O194*2), -1)","v":"so he must be telling the truth"}]
[24,{"$f":"IF(A195<> -1, OFFSET(O210, A195, 0), 0)","v":1},null,null,null,null,null,null,null,null,null,null,null,null,0,{"$f":"IF(O195<> -1, OFFSET(B210, A195, O195*2+1), -1)","v":25},{"$f":"IF(O195<> -1, OFFSET(B210, A195, O195*2), -1)","v":"and so he must be telling a falsehood"}]
[25,{"$f":"IF(A196<> -1, OFFSET(O210, A196, 0), 0)","v":1},null,null,null,null,null,null,null,null,null,null,null,null,0,{"$f":"IF(O196<> -1, OFFSET(B210, A196, O196*2+1), -1)","v":24},{"$f":"IF(O196<> -1, OFFSET(B210, A196, O196*2), -1)","v":"so he must be telling the truth"}]
[24,{"$f":"IF(A197<> -1, OFFSET(O210, A197, 0), 0)","v":1},null,null,null,null,null,null,null,null,null,null,null,null,0,{"$f":"IF(O197<> -1, OFFSET(B210, A197, O197*2+1), -1)","v":25},{"$f":"IF(O197<> -1, OFFSET(B210, A197, O197*2), -1)","v":"and so he must be telling a falsehood"}]
[25,{"$f":"IF(A198<> -1, OFFSET(O210, A198, 0), 0)","v":1},null,null,null,null,null,null,null,null,null,null,null,null,0,{"$f":"IF(O198<> -1, OFFSET(B210, A198, O198*2+1), -1)","v":24},{"$f":"IF(O198<> -1, OFFSET(B210, A198, O198*2), -1)","v":"so he must be telling the truth"}]
[24,{"$f":"IF(A199<> -1, OFFSET(O210, A199, 0), 0)","v":1},null,null,null,null,null,null,null,null,null,null,null,null,0,{"$f":"IF(O199<> -1, OFFSET(B210, A199, O199*2+1), -1)","v":25},{"$f":"IF(O199<> -1, OFFSET(B210, A199, O199*2), -1)","v":"and so he must be telling a falsehood"}]
[25,{"$f":"IF(A200<> -1, OFFSET(O210, A200, 0), 0)","v":1},null,null,null,null,null,null,null,null,null,null,null,null,0,{"$f":"IF(O200<> -1, OFFSET(B210, A200, O200*2+1), -1)","v":24},{"$f":"IF(O200<> -1, OFFSET(B210, A200, O200*2), -1)","v":"so he must be telling the truth"}]
[24,{"$f":"IF(A201<> -1, OFFSET(O210, A201, 0), 0)","v":1},null,null,null,null,null,null,null,null,null,null,null,null,0,{"$f":"IF(O201<> -1, OFFSET(B210, A201, O201*2+1), -1)","v":25},{"$f":"IF(O201<> -1, OFFSET(B210, A201, O201*2), -1)","v":"and so he must be telling a falsehood"}]
[25,{"$f":"IF(A202<> -1, OFFSET(O210, A202, 0), 0)","v":1},null,null,null,null,null,null,null,null,null,null,null,null,0,{"$f":"IF(O202<> -1, OFFSET(B210, A202, O202*2+1), -1)","v":24},{"$f":"IF(O202<> -1, OFFSET(B210, A202, O202*2), -1)","v":"so he must be telling the truth"}]
[24,{"$f":"IF(A203<> -1, OFFSET(O210, A203, 0), 0)","v":1},null,null,null,null,null,null,null,null,null,null,null,null,0,{"$f":"IF(O203<> -1, OFFSET(B210, A203, O203*2+1), -1)","v":25},{"$f":"IF(O203<> -1, OFFSET(B210, A203, O203*2), -1)","v":"and so he must be telling a falsehood"}]
[25,{"$f":"IF(A204<> -1, OFFSET(O210, A204, 0), 0)","v":1},null,null,null,null,null,null,null,null,null,null,null,null,0,{"$f":"IF(O204<> -1, OFFSET(B210, A204, O204*2+1), -1)","v":24},{"$f":"IF(O204<> -1, OFFSET(B210, A204, O204*2), -1)","v":"so he must be telling the truth"}]
[24,{"$f":"IF(A205<> -1, OFFSET(O210, A205, 0), 0)","v":1},null,null,null,null,null,null,null,null,null,null,null,null,0,{"$f":"IF(O205<> -1, OFFSET(B210, A205, O205*2+1), -1)","v":25},{"$f":"IF(O205<> -1, OFFSET(B210, A205, O205*2), -1)","v":"and so he must be telling a falsehood"}]
[25,{"$f":"IF(A206<> -1, OFFSET(O210, A206, 0), 0)","v":1},null,null,null,null,null,null,null,null,null,null,null,null,0,{"$f":"IF(O206<> -1, OFFSET(B210, A206, O206*2+1), -1)","v":24},{"$f":"IF(O206<> -1, OFFSET(B210, A206, O206*2), -1)","v":"so he must be telling the truth"}]
[]
[]
[{"$f":"\"node nos\"","v":"node nos"},{"$f":"\"out edges\"","v":"out edges"},null,null,null,null,null,null,null,null,null,null,null,null,{"$f":"\"out edge count\"","v":"out edge count"}]
[{"$f":"0","v":0},{"$f":"\"Earth\"","v":"Earth"},{"$f":"1","v":1},{"$f":"\"Mars\"","v":"Mars"},{"$f":"1","v":1},{"$f":"\"Planet 9 of Alpha-Centauri\"","v":"Planet 9 of Alpha-Centauri"},{"$f":"1","v":1},null,null,null,null,null,null,null,{"$f":"COUNT(B210:N210)","v":3}]
[{"$f":"1","v":1},{"$f":"\"is used as the cue ball in a game of galactic bar-billiards\"","v":"is used as the cue ball in a game of galactic bar-billiards"},{"$f":"2","v":2},{"$f":"\"falls toward the Sun\"","v":"falls toward the Sun"},{"$f":"2","v":2},{"$f":"\"falls toward a black hole\"","v":"falls toward a black hole"},{"$f":"2","v":2},{"$f":"\"is struck by a comet\"","v":"is struck by a comet"},{"$f":"2","v":2},{"$f":"\"is invaded by nasty aliens\"","v":"is invaded by nasty aliens"},{"$f":"2","v":2},{"$f":"\"is taken over by mutant diploid armour plated pterodactyls with ESP and silicon-based DNA\"","v":"is taken over by mutant diploid armour plated pterodactyls with ESP and silicon-based DNA"},{"$f":"2","v":2},{"$f":"\"is taken over by a time-travelling loony who returns to his youth and\"","v":"is taken over by a time-travelling loony who returns to his youth and"},6]
[{"$f":"2","v":2},{"$f":"\"and everyone dies\"","v":"and everyone dies"},{"$f":"-1","v":-1},{"$f":"\"and almost everyone dies\"","v":"and almost everyone dies"},{"$f":"-1","v":-1},{"$f":"\"and is visited by evil\"","v":"and is visited by evil"},{"$f":"4","v":4},{"$f":"\"and is visited by good\"","v":"and is visited by good"},{"$f":"4","v":4},null,null,null,null,null,4]
[{"$f":"3","v":3},{"$f":"\"changes sex, meets himself, and has children who become\"","v":"changes sex, meets himself, and has children who become"},{"$f":"7","v":7},{"$f":"\"kills himself (I said he was a loony)\"","v":"kills himself (I said he was a loony)"},{"$f":"-1","v":-1},null,null,null,null,null,null,null,null,null,2]
[{"$f":"4","v":4},{"$f":"\"aliens\"","v":"aliens"},{"$f":"5","v":5},{"$f":"\"robots\"","v":"robots"},{"$f":"5","v":5},{"$f":"\"mutant brewers yeast cells\"","v":"mutant brewers yeast cells"},{"$f":"5","v":5},null,null,null,null,null,null,null,3]
[{"$f":"5","v":5},{"$f":"\"who\"","v":"who"},{"$f":"6","v":6},{"$f":"\"who\"","v":"who"},{"$f":"17","v":17},null,null,null,null,null,null,null,null,null,2]
[{"$f":"6","v":6},{"$f":"\"also die\"","v":"also die"},{"$f":"-1","v":-1},{"$f":"\"save everyone\"","v":"save everyone"},{"$f":"9","v":9},{"$f":"\"rewind time to before the disaster\"","v":"rewind time to before the disaster"},{"$f":"11","v":11},{"$f":"\"copy the lot into a giant Sextium 3000 and edit out the nasty bits\"","v":"copy the lot into a giant Sextium 3000 and edit out the nasty bits"},{"$f":"16","v":16},null,null,null,null,null,4]
[{"$f":"7","v":7},{"$f":"\"yet more of this loony who\"","v":"yet more of this loony who"},{"$f":"3","v":3},{"$f":"\"the whole human race\"","v":"the whole human race"},{"$f":"-1","v":-1},null,null,null,null,null,null,null,null,null,2]
[{"$f":"8","v":8},null,null,null,null,null,null,null,null,null,null,null,null,null,0]
[{"$f":"9","v":9},{"$f":"\"and depart\"","v":"and depart"},{"$f":"-1","v":-1},{"$f":"\"and give the secret of\"","v":"and give the secret of"},{"$f":"10","v":10},null,null,null,null,null,null,null,null,null,2]
[{"$f":"10","v":10},{"$f":"\"free fusion power\"","v":"free fusion power"},{"$f":"13","v":13},{"$f":"\"free beer\"","v":"free beer"},{"$f":"13","v":13},{"$f":"\"Life, the Universe, and Everything\"","v":"Life, the Universe, and Everything"},{"$f":"42","v":42},{"$f":"\"Life, the Universe, and Everything\"","v":"Life, the Universe, and Everything"},{"$f":"13","v":13},{"$f":"\"eternal life\"","v":"eternal life"},{"$f":"13","v":13},null,null,null,5]
[{"$f":"11","v":11},{"$f":"\"but then\"","v":"but then"},{"$f":"0","v":0},{"$f":"\"\"","v":""},{"$f":"9","v":9},null,null,null,null,null,null,null,null,null,2]
[{"$f":"12","v":12},null,null,null,null,null,null,null,null,null,null,null,null,null,0]
[{"$f":"13","v":13},{"$f":"\"so everyone gets very bored and tries to forget this by\"","v":"so everyone gets very bored and tries to forget this by"},{"$f":"15","v":15},{"$f":"\"so everyone gets very bored and tries to forget this by\"","v":"so everyone gets very bored and tries to forget this by"},{"$f":"14","v":14},{"$f":"\"so all live happily ever after\"","v":"so all live happily ever after"},{"$f":"-1","v":-1},null,null,null,null,null,null,null,3]
[{"$f":"14","v":14},{"$f":"\"drinking\"","v":"drinking"},{"$f":"-1","v":-1},null,null,null,null,null,null,null,null,null,null,null,1]
[{"$f":"15","v":15},{"$f":"\"becoming Gods; creating a new Universe wherein\"","v":"becoming Gods; creating a new Universe wherein"},{"$f":"0","v":0},null,null,null,null,null,null,null,null,null,null,null,1]
[{"$f":"16","v":16},{"$f":"\"but the system crashes\"","v":"but the system crashes"},{"$f":"-1","v":-1},{"$f":"\"but they mis-type 'aliens' and take out all the lions instead\"","v":"but they mis-type 'aliens' and take out all the lions instead"},{"$f":"-1","v":-1},{"$f":"\"but they run out of credits\"","v":"but they run out of credits"},{"$f":"-1","v":-1},{"$f":"\"but they run out of budget\"","v":"but they run out of budget"},{"$f":"-1","v":-1},{"$f":"\"but they run out of CPU time\"","v":"but they run out of CPU time"},{"$f":"-1","v":-1},{"$f":"\"but they run out of memory\"","v":"but they run out of memory"},{"$f":"-1","v":-1},{"$f":"\"but the editor is in Prolog and they know only Basic\"","v":"but the editor is in Prolog and they know only Basic"},6]
[{"$f":"17","v":17},{"$f":"\"are wiped out by\"","v":"are wiped out by"},{"$f":"18","v":18},{"$f":"\"wish only to serve everyone\"","v":"wish only to serve everyone"},{"$f":"21","v":21},{"$f":"\"save it and enslave everyone\"","v":"save it and enslave everyone"},{"$f":"-1","v":-1},{"$f":"\"and\"","v":"and"},{"$f":"22","v":22},{"$f":"\"are converted by the village priest (who tells them of God) to\"","v":"are converted by the village priest (who tells them of God) to"},{"$f":"26","v":26},{"$f":"\"steal its reserves of\"","v":"steal its reserves of"},{"$f":"27","v":27},null,6]
[{"$f":"18","v":18},{"$f":"\"mumps\"","v":"mumps"},{"$f":"19","v":19},{"$f":"\"atom-test radiation\"","v":"atom-test radiation"},{"$f":"19","v":19},{"$f":"\"the village idiot\"","v":"the village idiot"},{"$f":"19","v":19},{"$f":"\"the beer\"","v":"the beer"},{"$f":"19","v":19},null,null,null,null,null,4]
[{"$f":"19","v":19},{"$f":"\"which then kills off everyone else\"","v":"which then kills off everyone else"},{"$f":"-1","v":-1},{"$f":"\"which then turns everyone else into supermen\"","v":"which then turns everyone else into supermen"},{"$f":"20","v":20},null,null,null,null,null,null,null,null,null,2]
[{"$f":"20","v":20},{"$f":"\"\"","v":""},{"$f":"-1","v":-1},{"$f":"\"\"","v":""},{"$f":"13","v":13},null,null,null,null,null,null,null,null,null,2]
[{"$f":"21","v":21},{"$f":"\"(fried)\"","v":"(fried)"},{"$f":"-1","v":-1},{"$f":"\"(boiled in white sauce)\"","v":"(boiled in white sauce)"},{"$f":"-1","v":-1},{"$f":"\"\"","v":""},{"$f":"-1","v":-1},null,null,null,null,null,null,null,3]
[{"$f":"22","v":22},{"$f":"\"are stopped by a logician\"","v":"are stopped by a logician"},{"$f":"23","v":23},null,null,null,null,null,null,null,null,null,null,null,1]
[{"$f":"23","v":23},{"$f":"\"who says 'I am lying'\"","v":"who says 'I am lying'"},{"$f":"24","v":24},{"$f":"\"who can't remember the Paradox of the Liar and gets killed\"","v":"who can't remember the Paradox of the Liar and gets killed"},{"$f":"-1","v":-1},null,null,null,null,null,null,null,null,null,2]
[{"$f":"24","v":24},{"$f":"\"and so he must be telling a falsehood\"","v":"and so he must be telling a falsehood"},{"$f":"25","v":25},null,null,null,null,null,null,null,null,null,null,null,1]
[{"$f":"25","v":25},{"$f":"\"so he must be telling the truth\"","v":"so he must be telling the truth"},{"$f":"24","v":24},null,null,null,null,null,null,null,null,null,null,null,1]
[{"$f":"26","v":26},{"$f":"\"good ones\"","v":"good ones"},{"$f":"5","v":5},null,null,null,null,null,null,null,null,null,null,null,1]
[{"$f":"27","v":27},{"$f":"\"water\"","v":"water"},{"$f":"28","v":28},{"$f":"\"iron\"","v":"iron"},{"$f":"28","v":28},{"$f":"\"asparagus soup\"","v":"asparagus soup"},{"$f":"28","v":28},{"$f":"\"beer\"","v":"beer"},{"$f":"28","v":28},null,null,null,null,null,4]
[{"$f":"28","v":28},{"$f":"\"\"","v":""},{"$f":"-1","v":-1},{"$f":"\"and\"","v":"and"},{"$f":"22","v":22},null,null,null,null,null,null,null,null,null,2]
[{"$f":"29","v":29},null,null,null,null,null,null,null,null,null,null,null,null,null,0]
[{"$f":"30","v":30},null,null,null,null,null,null,null,null,null,null,null,null,null,0]
[{"$f":"31","v":31},null,null,null,null,null,null,null,null,null,null,null,null,null,0]
[{"$f":"32","v":32},null,null,null,null,null,null,null,null,null,null,null,null,null,0]
[{"$f":"33","v":33},null,null,null,null,null,null,null,null,null,null,null,null,null,0]
[{"$f":"34","v":34},null,null,null,null,null,null,null,null,null,null,null,null,null,0]
[{"$f":"35","v":35},null,null,null,null,null,null,null,null,null,null,null,null,null,0]
[{"$f":"36","v":36},null,null,null,null,null,null,null,null,null,null,null,null,null,0]
[{"$f":"37","v":37},null,null,null,null,null,null,null,null,null,null,null,null,null,0]
[{"$f":"38","v":38},null,null,null,null,null,null,null,null,null,null,null,null,null,0]
[{"$f":"39","v":39},null,null,null,null,null,null,null,null,null,null,null,null,null,0]
[{"$f":"40","v":40},null,null,null,null,null,null,null,null,null,null,null,null,null,0]
[{"$f":"41","v":41},null,null,null,null,null,null,null,null,null,null,null,null,null,0]
[{"$f":"42","v":42},{"$f":"\"42\"","v":"42"},{"$f":"13","v":13},null,null,null,null,null,null,null,null,null,null,null,1]